BEGIN:VCALENDAR
VERSION:2.0
PRODID:-//acuart - ECPv6.15.20//NONSGML v1.0//EN
CALSCALE:GREGORIAN
METHOD:PUBLISH
X-ORIGINAL-URL:https://www.acuart.pl
X-WR-CALDESC:Wydarzenia dla acuart
REFRESH-INTERVAL;VALUE=DURATION:PT1H
X-Robots-Tag:noindex
X-PUBLISHED-TTL:PT1H
BEGIN:VTIMEZONE
TZID:UTC
BEGIN:STANDARD
TZOFFSETFROM:+0000
TZOFFSETTO:+0000
TZNAME:UTC
DTSTART:20240101T000000
END:STANDARD
END:VTIMEZONE
BEGIN:VEVENT
DTSTART;VALUE=DATE:20251205
DTEND;VALUE=DATE:20251207
DTSTAMP:20260423T111905
CREATED:20230620T114700Z
LAST-MODIFIED:20250513T073359Z
UID:1015-1764892800-1765065599@www.acuart.pl
SUMMARY:POZNAŃ – kurs podstawowy\, zjazd 12
DESCRIPTION:[vc_row][vc_column]			 					\n			Zjazd 12 – diagnoza z wywiadu\nZjazd 12 jest poświęcony sposobom zbierania wywiadu i rozmowy z pacjentem. W jego trakcie dowiemy się jak rozpoznawać różne typy pacjentów na podstawie ich sposobu ekspresji\, co pozwala na zrozumienie podstawowych wyzwań pacjentów i ich sposobów radzenia sobie z tymi wyzwaniami\, a także nauczymy się jak ustalać zasady współpracy i wspólne cele terapii. \nNiebagatelną częścią tego zjazdu jest omówienie tzw Pieśni 10 Pytań stanowiącej w Medycynie Chińskiej podstawę ustrukturyzowanego wywiadu. Rozmowa o poszczególnych objawach i procesach prowadzących do ich powstania pozwoli nam lepiej zrozumieć historie naszych pacjentów.   \n		\n		[/vc_column][/vc_row]
URL:https://www.acuart.pl/wydarzenie/poznan-kurs-podstawowy-zjazd-12/
LOCATION:Poznań\, Poznań\, Poland
ORGANIZER;CN="acuart":MAILTO:sekretariat@acuart.pl
END:VEVENT
BEGIN:VEVENT
DTSTART;VALUE=DATE:20251205
DTEND;VALUE=DATE:20251208
DTSTAMP:20260423T111905
CREATED:20230620T114550Z
LAST-MODIFIED:20250513T073440Z
UID:1013-1764892800-1765151999@www.acuart.pl
SUMMARY:POZNAŃ – kurs podstawowy\, zjazd 24
DESCRIPTION:[vc_row][vc_column]		\n			Zjazd 24 – egzamin\nOstatni zjazd kursu to egzamin\, który składa się z dwóch części: \n– egzaminu praktycznego\, podczas którego Studenci będą musieli zdiagnozować realnego pacjenta\, samodzielnie ustalić cele i strategie terapii\, a także zlokalizować na ciele pacjenta punkty i przeprowadzić skuteczny zabieg. Skuteczność zabiegu będziemy oceniać na podstawie zmian w pulsie   \n– egzaminu testowego – testu jednokrotnego wybory składającego się z pytań obejmujących materiał z całego kursu  \n		\n		[/vc_column][/vc_row]
URL:https://www.acuart.pl/wydarzenie/poznan-kurs-podstawowy-zjazd-24/
LOCATION:Poznań\, Poznań\, Poland
ORGANIZER;CN="acuart":MAILTO:sekretariat@acuart.pl
END:VEVENT
BEGIN:VEVENT
DTSTART;VALUE=DATE:20251219
DTEND;VALUE=DATE:20251221
DTSTAMP:20260423T111905
CREATED:20240527T051343Z
LAST-MODIFIED:20250513T073618Z
UID:1334-1766102400-1766275199@www.acuart.pl
SUMMARY:WARSZAWA II – kurs podstawowy\, zjazd 14
DESCRIPTION:[vc_row][vc_column]		\n			Zjazd 14 – ćwiczenia praktyczne\nTen zjazd jest poświęcony zapoznaniu studentów z etapami diagnozy i wyboru punktów\, a także z technikami nakłuć i sposobami lokalizacji punktów – po raz pierwszy spotykamy się na zjeździe wyłącznie praktycznym\, na którym będziemy wykorzystywać całą zdobytą dotychczas wiedzę z diagnozy\, tworzenia kombinacji punktów i nakłuwania. \n		\n		[/vc_column][/vc_row]
URL:https://www.acuart.pl/wydarzenie/warszawa-kurs-podstawowy-zjazd-14/
LOCATION:Warszawa\, Warszawa\, Mazowieckie\, Poland
ORGANIZER;CN="acuart":MAILTO:sekretariat@acuart.pl
END:VEVENT
BEGIN:VEVENT
DTSTART;VALUE=DATE:20251220
DTEND;VALUE=DATE:20251222
DTSTAMP:20260423T111905
CREATED:20230620T115046Z
LAST-MODIFIED:20250513T073522Z
UID:1021-1766188800-1766361599@www.acuart.pl
SUMMARY:KATOWICE – kurs podstawowy\, zjazd 21
DESCRIPTION:[vc_row][vc_column]		\n			Zjazd 21 – Osiem Kanałów do Niezwykłych Regulacji\nJest to zjazd poświęcony Qi Jing Ba Mai – ośmiu kanałom stanowiącym najgłębszą warstwę organizacji ludzkiego organizmu. W jego trakcie poznamy starochińskie teorie dotyczące powstania świata\, w tym zasady interakcji pomiędzy Yin i Yang\, cztery dogramy i osiem trygramów a także ich relacje z Kanałami Cudownymi. \nNauczymy się też zasad diagnozy z pulsu i z wywiadu patologii tych Kanałów. \nNastępnie omówimy po kolei ich działanie\, najpierw grupę Kanałów pierwotnych: ChongMai\, DuMai\, RenMai i DaiMai\, a potem kanałów Ziemskich\, wtórnych: Yin i Yang Qiao i Wei Mai\, wraz z najczęstszymi ich patologiami\, przebiegami kanałów oraz działaniem wszystkich znajdujących się na nich punktów.  \n		\n		[/vc_column][/vc_row]
URL:https://www.acuart.pl/wydarzenie/katowice-kurs-podstawowy-zjazd-21/
LOCATION:Katowice\, Katowice\, Poland
ORGANIZER;CN="acuart":MAILTO:sekretariat@acuart.pl
END:VEVENT
BEGIN:VEVENT
DTSTART;VALUE=DATE:20251220
DTEND;VALUE=DATE:20251222
DTSTAMP:20260423T111905
CREATED:20250513T073703Z
LAST-MODIFIED:20250513T073703Z
UID:1608-1766188800-1766361599@www.acuart.pl
SUMMARY:WARSZAWA III – kurs podstawowy\, zjazd 2
DESCRIPTION:[vc_row][vc_column]		\n			Zjazd 2 – metabolizm \nDrugi zjazd jest w całości poświęcony problemom metabolizmu: w jego trakcie omawiamy podział ciała na 3 i pokazujemy jakie ma on przełożenie na różne formy diagnozy (z praktyczną aplikacją)\, opisujemy też w szczegółach fizjologię\, rodzaje\, patologię i mechanizmy tworzenia podstawowych substancji ciała (Shen\, Qi\, Krwi\, Płynów i Jing – Esencji). \nDrugi dzień zjazdu poświęcony jest wprowadzeniu do dietetyki w ujęciu Medycyny Chińskiej \n		\n		[/vc_column][/vc_row]
URL:https://www.acuart.pl/wydarzenie/warszawa-iii-kurs-podstawowy-zjazd-2/
LOCATION:Warszawa\, Warszawa\, Mazowieckie\, Poland
ORGANIZER;CN="acuart":MAILTO:sekretariat@acuart.pl
END:VEVENT
END:VCALENDAR