BEGIN:VCALENDAR
VERSION:2.0
PRODID:-//acuart - ECPv6.15.20//NONSGML v1.0//EN
CALSCALE:GREGORIAN
METHOD:PUBLISH
X-WR-CALNAME:acuart
X-ORIGINAL-URL:https://www.acuart.pl
X-WR-CALDESC:Wydarzenia dla acuart
REFRESH-INTERVAL;VALUE=DURATION:PT1H
X-Robots-Tag:noindex
X-PUBLISHED-TTL:PT1H
BEGIN:VTIMEZONE
TZID:UTC
BEGIN:STANDARD
TZOFFSETFROM:+0000
TZOFFSETTO:+0000
TZNAME:UTC
DTSTART:20240101T000000
END:STANDARD
END:VTIMEZONE
BEGIN:VEVENT
DTSTART;VALUE=DATE:20251114
DTEND;VALUE=DATE:20251116
DTSTAMP:20260423T123643
CREATED:20230824T080703Z
LAST-MODIFIED:20250513T072841Z
UID:1076-1763078400-1763251199@www.acuart.pl
SUMMARY:POZNAŃ – kurs podstawowy\, zjazd 11
DESCRIPTION:[vc_row][vc_column]			 					\n			Zjazd 11 – diagnoza z twarzy \nNa poprzednich zjazdach uczyliśmy się diagnozować na podstawie pulsu i języka\, teraz przyszedł czas na diagnozę z wyglądu – będziemy się uczyć rozpoznawać różne typy budowy ciała\, a także omówimy co można wyczytać z twarzy człowieka.   \nJest to bardzo dynamiczny i praktyczny zjazd \n		\n		[/vc_column][/vc_row]
URL:https://www.acuart.pl/wydarzenie/poznan-kurs-podstawowy-zjazd-11-2/
LOCATION:Poznań\, Poznań\, Poland
ORGANIZER;CN="acuart":MAILTO:sekretariat@acuart.pl
END:VEVENT
BEGIN:VEVENT
DTSTART;VALUE=DATE:20251115
DTEND;VALUE=DATE:20251117
DTSTAMP:20260423T123643
CREATED:20230620T113014Z
LAST-MODIFIED:20250513T072935Z
UID:1003-1763164800-1763337599@www.acuart.pl
SUMMARY:POZNAŃ – kurs podstawowy\, zjazd 23
DESCRIPTION:[vc_row][vc_column]		\n			Zjazd 23 – Powtórzenie \nTo są zajęcia\, które z założenia mają przygotować Studentów do czekającego ich wkrótce egzaminu i usystematyzować ich wiedzę z podstaw Medycyny Chińskiej. Są oparte na schemacie przedstawiającym systemy uporządkowania rzeczywistości w bardzo luźnym podziale: wewnętrzny / zewnętrzny. Taka konstrukcja zajęć pozwala na powtórzenie działania większości często używanych punktów akupunkturowych. \nPlan zajęć: \n\nrozwój choroby \nczłowiek pomiędzy Niebem a Ziemią\nteorie stosowane (głównie) w syndromach wewnętrznych\n\nNiebo – 5 Przemian (punkty 5 Przemian) \nZiemia – zegar obiegu (punkty wejścia\, wyjścia\, punkty ziemskich konarów)\nNarządy – SanJiao – metabolizm (odniesienie do 2 zjazdu\, w oparciu o wykłady Raniego)\nNarządy – SanJiao – substancje ciała (przypomnienie punktów wspomagających produkcję/odżywiających Qi\, Krew\, Yang\, Yin\, wpływających na korzeń/Esencję)\nNarządy – emocje (przypomnienie różnych podejść do leczenia zaburzeń emocjonalnych\, głównie 5 Przemian) \n\n\nteorie stosowane (głównie) w syndromach zewnętrznych\n\n6 warstw (fizjologia) – 6 kanałów\n6 czynników patogennych \n6 warstw (patologia)\nShang Han Lun \nWen Bing  \n\n\n\n		\n		[/vc_column][/vc_row]
URL:https://www.acuart.pl/wydarzenie/poznan-kurs-podstawowy-zjazd-23/
LOCATION:Poznań\, Poznań\, Poland
ORGANIZER;CN="acuart":MAILTO:sekretariat@acuart.pl
END:VEVENT
BEGIN:VEVENT
DTSTART;VALUE=DATE:20251122
DTEND;VALUE=DATE:20251124
DTSTAMP:20260423T123643
CREATED:20230620T114345Z
LAST-MODIFIED:20250513T073028Z
UID:1011-1763769600-1763942399@www.acuart.pl
SUMMARY:KATOWICE – kurs podstawowy\, zjazd 20
DESCRIPTION:[vc_row][vc_column]		\n			Zjazd 20 – Strategie tworzenia kombinacji punktów\, diagnostyka różnicowa cz. 3\nTen zjazd składa się z dwóch części: \n– jeden dzień poświęcony jest na omówienie strategii tworzenia częstych kombinacji punktów akupunkturowych i zasad łączenia punktów w kombinacje  \n– drugi dzień natomiast to kontynuacja nauki diagnostyki różnicowej – tym razem głównie chorób i objawów związanych z zaburzeniami metabolicznymi: cukrzycy i chorób tarczycy  \n		\n		[/vc_column][/vc_row]
URL:https://www.acuart.pl/wydarzenie/katowice-kurs-podstawowy-zjazd-20/
LOCATION:Katowice\, Katowice\, Poland
ORGANIZER;CN="acuart":MAILTO:sekretariat@acuart.pl
END:VEVENT
BEGIN:VEVENT
DTSTART;VALUE=DATE:20251128
DTEND;VALUE=DATE:20251130
DTSTAMP:20260423T123643
CREATED:20240527T050836Z
LAST-MODIFIED:20250919T093314Z
UID:1330-1764288000-1764460799@www.acuart.pl
SUMMARY:WARSZAWA II – kurs podstawowy\, zjazd 13
DESCRIPTION:[vc_row][vc_column]		\n			Zjazd 13 – 6 Qi\, Wilgoć i patologie płynów \nDrugi rok nauki rozpoczynamy zjazdem składającym się z dwóch odrębnych tematów: \n– w końcu poznamy lepiej 6 rodzajów Qi zarówno w ich fizjologii\, jak i patologii\, w oparciu o traktat Shang Han Lun  \n– omówimy także częste patologie płynów\, ze szczególnym uwzględnieniem Wilgoci\, Śluzu oraz Wilgoci i Gorąca  \n		\n		[/vc_column][/vc_row]
URL:https://www.acuart.pl/wydarzenie/warszawa-kurs-podstawowy-zjazd-13/
LOCATION:Warszawa\, Warszawa\, Mazowieckie\, Poland
ORGANIZER;CN="acuart":MAILTO:sekretariat@acuart.pl
END:VEVENT
BEGIN:VEVENT
DTSTART;VALUE=DATE:20251129
DTEND;VALUE=DATE:20251201
DTSTAMP:20260423T123643
CREATED:20250513T073236Z
LAST-MODIFIED:20250919T093338Z
UID:1605-1764374400-1764547199@www.acuart.pl
SUMMARY:WARSZAWA III – kurs podstawowy\, zjazd 1
DESCRIPTION:[vc_row][vc_column]		\n			Zjazd 1 – Wstęp; 5 przemian\nPierwszy zjazd Kursu rozpoczyna pełną przygód podróż Studentów przez świat Medycyny Chińskiej i jak każdy początek poświęcony jest przede wszystkim zbudowaniu logicznej struktury\, mapy\, której używać będziemy w całej podróży. Oczywiście wprowadzamy już też podstawowe pojęcia\, uczymy znaczenia słów\, których będziemy używać przez kolejne dwa lata. Na koniec zaś odpowiadamy na pytanie – jak być zdrowym?  \nCelem pierwszego zjazdu jest:  \n\nzawiązanie grupy \nprzedstawienie Medycyny Chińskiej jako spójnego i logicznego systemu medycznego\, pierwsze przedstawienie różnych systemów organizacji rzeczywistości (a także kiedy jakich używać)\nwprowadzenie podstawowych pojęć: Qi\, Yin/Yang\, 5 Przemian\nprzedstawienie aktualnego stanu wiedzy płynącej z badań klinicznych – legitymizacja akupunktury jako metody naukowej\, ale też umożliwienie rozmowy na tym poziomie   \n\n		\n		[/vc_column][/vc_row]
URL:https://www.acuart.pl/wydarzenie/warszawa-iii-kurs-podstawowy-zjazd-1/
LOCATION:Warszawa\, Warszawa\, Mazowieckie\, Poland
ORGANIZER;CN="acuart":MAILTO:sekretariat@acuart.pl
END:VEVENT
END:VCALENDAR