BEGIN:VCALENDAR
VERSION:2.0
PRODID:-//acuart - ECPv6.15.20//NONSGML v1.0//EN
CALSCALE:GREGORIAN
METHOD:PUBLISH
X-WR-CALNAME:acuart
X-ORIGINAL-URL:https://www.acuart.pl
X-WR-CALDESC:Wydarzenia dla acuart
REFRESH-INTERVAL;VALUE=DURATION:PT1H
X-Robots-Tag:noindex
X-PUBLISHED-TTL:PT1H
BEGIN:VTIMEZONE
TZID:UTC
BEGIN:STANDARD
TZOFFSETFROM:+0000
TZOFFSETTO:+0000
TZNAME:UTC
DTSTART:20240101T000000
END:STANDARD
END:VTIMEZONE
BEGIN:VEVENT
DTSTART;VALUE=DATE:20250822
DTEND;VALUE=DATE:20250824
DTSTAMP:20260423T170325
CREATED:20230608T112909Z
LAST-MODIFIED:20250424T080043Z
UID:973-1755820800-1755993599@www.acuart.pl
SUMMARY:POZNAŃ – kurs podstawowy\, zjazd 8
DESCRIPTION:[vc_row][vc_column]			 					\n			Zjazd 8 – Przemiana Wody – fizjologia\, patologia\, kanały i punkty; Diagnoza z Pulsu – złożone jakości\nÓsmy zjazd to czas poświęcony fizjologii i patologii Przemiany Wody: \n– zapoznamy się z fizjologią Nerek i Pęcherza Moczowego\, widzianą z perspektywy zarówno 5 Przemian i Zegara Obiegu Energii\, \n– poznamy połączenia pomiędzy tymi narządami a innymi funkcjami ciała\, co znacznie usprawni rozumienie procesów patologicznych\, ale też planowanie terapii  \n– zaznajomimy się z dokładnymi przebiegami kanałów Nerek i Pęcherza Moczowego\, a także lokalizacją i działaniem punktów akupunkturowych\, które są na nich zlokalizowane  \n– w końcu przedyskutujemy najczęstsze patologie tych narządów  \nJest to kolejny zjazd\, w którym pogłębimy swoją znajomość diagnozy z pulsu\, zapoznając się ze sposobem badania i klinicznym znaczeniem kompleksowych jakości pulsu: siły\, napięcia ściany naczynia\, a także kształtu fali tętna  \n		\n		[/vc_column][/vc_row]
URL:https://www.acuart.pl/wydarzenie/poznan-kurs-podstawowy-zjazd-8/
LOCATION:Poznań\, Poznań\, Poland
ORGANIZER;CN="acuart":MAILTO:sekretariat@acuart.pl
END:VEVENT
BEGIN:VEVENT
DTSTART;VALUE=DATE:20250823
DTEND;VALUE=DATE:20250825
DTSTAMP:20260423T170325
CREATED:20230608T113018Z
LAST-MODIFIED:20250424T080827Z
UID:975-1755907200-1756079999@www.acuart.pl
SUMMARY:POZNAŃ – kurs podstawowy\, zjazd 20
DESCRIPTION:[vc_row][vc_column]		\n			Zjazd 20 – Strategie tworzenia kombinacji punktów\, diagnostyka różnicowa cz. 3\nTen zjazd składa się z dwóch części: \n– jeden dzień poświęcony jest na omówienie strategii tworzenia częstych kombinacji punktów akupunkturowych i zasad łączenia punktów w kombinacje  \n– drugi dzień natomiast to kontynuacja nauki diagnostyki różnicowej – tym razem głównie chorób i objawów związanych z zaburzeniami metabolicznymi: cukrzycy i chorób tarczycy  \n		\n		[/vc_column][/vc_row]
URL:https://www.acuart.pl/wydarzenie/poznan-kurs-podstawowy-zjazd-20/
LOCATION:Poznań\, Poznań\, Poland
ORGANIZER;CN="acuart":MAILTO:sekretariat@acuart.pl
END:VEVENT
BEGIN:VEVENT
DTSTART;VALUE=DATE:20250829
DTEND;VALUE=DATE:20250831
DTSTAMP:20260423T170325
CREATED:20240527T045223Z
LAST-MODIFIED:20250424T081059Z
UID:1316-1756425600-1756598399@www.acuart.pl
SUMMARY:WARSZAWA II – kurs podstawowy\, zjazd 10
DESCRIPTION:[vc_row][vc_column]		\n			Zjazd 10 – Przemiana Ognia c.d. – fizjologia\, patologia\, kanały i punkty; Diagnoza z Języka \nDziesiąty zjazd domyka półroczny blok poznawania fizjologii i patologii narządowej: tym razem kontynuujemy poznawanie Przemiany Ognia koncentrując się na tzw. Ogniu Ziemskim\, albo Ministerialnym \n– zapoznamy się z fizjologią Osierdzia i San Jiao\, widzianą z perspektywy zarówno 5 Przemian i Zegara Obiegu Energii\, \n– poznamy połączenia pomiędzy tymi narządami a innymi funkcjami ciała\, co znacznie usprawni rozumienie procesów patologicznych\, ale też planowanie terapii  \n– zaznajomimy się z dokładnymi przebiegami kanałów Osierdzia i San Jiao\, a także lokalizacją i działaniem zlokalizowanych na nich punktów akupunkturowych  \n– w końcu przedyskutujemy najczęstsze patologie tych narządów  \nJest to też zjazd\, w którym nauczymy się diagnozy z języka: poznamy podstawy badania języka\, odzwierciedlenie narządów na język\, nauczymy się rozpoznawać kolory\, kształty i formy ciała języka i nalotu i oczywiście będziemy ćwiczyć rozpoznawanie patologii na językach.  \n		\n		[/vc_column][/vc_row]
URL:https://www.acuart.pl/wydarzenie/warszawa-kurs-podstawowy-zjazd-10/
LOCATION:Warszawa\, Warszawa\, Mazowieckie\, Poland
ORGANIZER;CN="acuart":MAILTO:sekretariat@acuart.pl
END:VEVENT
BEGIN:VEVENT
DTSTART;VALUE=DATE:20250829
DTEND;VALUE=DATE:20250901
DTSTAMP:20260423T170325
CREATED:20230608T114045Z
LAST-MODIFIED:20250424T080942Z
UID:981-1756425600-1756684799@www.acuart.pl
SUMMARY:KATOWICE – kurs podstawowy\, zjazd 17
DESCRIPTION:[vc_row][vc_column]		\n			Zjazd 17 – Diagnostyka różnicowa cz.2; Lokalizacja punktów\nPodczas siedemnastego zjazdu kontynuujemy ćwiczenia praktyczne\, tym razem skupiając się na powtórzeniu prawidłowej lokalizacji punktów akupunkturowych w wybranych okolicach ciała.  \nDrugi dzień zjazdu poświęcony jest dalszemu studiowaniu diagnostyki różnicowej\, czyli tłumaczeniu współczesnych\, często występujących u pacjentów objawów na chińskie syndromy. Konkretne objawy zależą od studentów\, zwykle omawiamy nadciśnienie tętnicze\, depresję\, bezsenność\, kaszel\, zaburzenia erekcji. \n		\n		[/vc_column][/vc_row]
URL:https://www.acuart.pl/wydarzenie/katowice-kurs-podstawowy-zjazd-17/
LOCATION:Katowice\, Katowice\, Poland
ORGANIZER;CN="acuart":MAILTO:sekretariat@acuart.pl
END:VEVENT
BEGIN:VEVENT
DTSTART;VALUE=DATE:20250830
DTEND;VALUE=DATE:20250901
DTSTAMP:20260423T170325
CREATED:20250424T081434Z
LAST-MODIFIED:20250424T081434Z
UID:1591-1756512000-1756684799@www.acuart.pl
SUMMARY:WARSZAWA – kurs podstawowy\, zjazd 22
DESCRIPTION:[vc_row][vc_column]		\n			Zjazd 22 – Zdrowie kobiety w Medycynie Chińskiej \nZjazd 22 jest w całości poświęcony kobietom\, ich zdrowiu\, fizjologii i najczęstszym patologiom. Z właściwą sobie pasją\, wrażliwością\, głębokim zrozumieniem i ogromną wiedzą płynącą z praktyki klinicznej zjazd poprowadzi Izabela Miętka z Warszawy – jedna z najlepszych w Polsce akupunkturzystek skupionych na pracy z kobietami.  \nZ jej wykładu dowiemy się o energetycznej anatomii kobiet\, ich cyklu miesięcznym\, substancjach ciała\, płodności i emocjach. Poznamy też patologie miesiączkowania\, sposoby diagnozowania i wspomagania leczenia niepłodności\, zasady prowadzenia pacjentek w ciąży i podczas porodu.   \n		\n		[/vc_column][/vc_row]
URL:https://www.acuart.pl/wydarzenie/warszawa-kurs-podstawowy-zjazd-22/
LOCATION:Warszawa\, Warszawa\, Mazowieckie\, Poland
ORGANIZER;CN="acuart":MAILTO:sekretariat@acuart.pl
END:VEVENT
END:VCALENDAR