BEGIN:VCALENDAR
VERSION:2.0
PRODID:-//acuart - ECPv6.15.20//NONSGML v1.0//EN
CALSCALE:GREGORIAN
METHOD:PUBLISH
X-ORIGINAL-URL:https://www.acuart.pl
X-WR-CALDESC:Wydarzenia dla acuart
REFRESH-INTERVAL;VALUE=DURATION:PT1H
X-Robots-Tag:noindex
X-PUBLISHED-TTL:PT1H
BEGIN:VTIMEZONE
TZID:UTC
BEGIN:STANDARD
TZOFFSETFROM:+0000
TZOFFSETTO:+0000
TZNAME:UTC
DTSTART:20240101T000000
END:STANDARD
END:VTIMEZONE
BEGIN:VEVENT
DTSTART;VALUE=DATE:20250704
DTEND;VALUE=DATE:20250706
DTSTAMP:20260423T182826
CREATED:20240526T110512Z
LAST-MODIFIED:20250513T071326Z
UID:1309-1751587200-1751759999@www.acuart.pl
SUMMARY:WARSZAWA II – kurs podstawowy\, zjazd 9
DESCRIPTION:[vc_row][vc_column]			 					\n			Zjazd 9 – Przemiana Ognia – fizjologia\, patologia\, kanały i punkty; Diagnoza z Pulsu – pozycje narządowe i stawianie rozpoznania\nW trakcie dziewiątego zjazdu zaczniemy omawianie fizjologii i patologii Przemiany Ognia: \n– zapoznamy się z fizjologią Serca i Jelita Cienkiego\, widzianą z perspektywy zarówno 5 Przemian i Zegara Obiegu Energii\, \n– poznamy połączenia pomiędzy tymi narządami a innymi funkcjami ciała\, co znacznie usprawni rozumienie procesów patologicznych\, ale też planowanie terapii  \n– zaznajomimy się z dokładnymi przebiegami kanałów Serca i Jelita Cienkiego\, a także lokalizacją i działaniem zlokalizowanych na nich punktów akupunkturowych  \n– w końcu przedyskutujemy najczęstsze patologie tych narządów  \nJest to zjazd kończący cykl nauki badania pulsu\, tak więc dowiemy się na nim o 12 pozycjach narządowych i przypomniwszy sobie fizjologię tych narządów zbierzemy wszystkie dotychczasowe informacje w całość stawiając pierwsze diagnozy na podstawie badania pulsu \n		\n		[/vc_column][/vc_row]
URL:https://www.acuart.pl/wydarzenie/warszawa-kurs-podstawowy-zjazd-9/
LOCATION:Warszawa\, Warszawa\, Mazowieckie\, Poland
ORGANIZER;CN="acuart":MAILTO:sekretariat@acuart.pl
END:VEVENT
BEGIN:VEVENT
DTSTART;VALUE=DATE:20250705
DTEND;VALUE=DATE:20250707
DTSTAMP:20260423T182826
CREATED:20230608T112654Z
LAST-MODIFIED:20250424T075406Z
UID:971-1751673600-1751846399@www.acuart.pl
SUMMARY:KATOWICE – kurs podstawowy\, zjazd 16
DESCRIPTION:[vc_row][vc_column]		\n			Zjazd 16 – ćwiczenia z pacjentami \nJest to kolejny zjazd praktyczny\, tym razem jednak ćwiczyć diagnozę\, tworzenie strategii terapii i same nakłucia będziemy już nie na sobie\, jak było poprzednio\, ale na prawdziwych pacjentach\, których będziemy przyjmować w gabinetach\, w małych grupach.  \nNastępnie wspólnie omówimy wszystkich pacjentów z danego dnia\, żebyśmy mogli skorzystać na analizie każdego z przypadków.   \n		\n		[/vc_column][/vc_row]
URL:https://www.acuart.pl/wydarzenie/katowice-kurs-podstawowy-zjazd-16/
LOCATION:Katowice\, Katowice\, Poland
ORGANIZER;CN="acuart":MAILTO:sekretariat@acuart.pl
END:VEVENT
BEGIN:VEVENT
DTSTART;VALUE=DATE:20250705
DTEND;VALUE=DATE:20250707
DTSTAMP:20260423T182826
CREATED:20250424T075708Z
LAST-MODIFIED:20250424T075708Z
UID:1588-1751673600-1751846399@www.acuart.pl
SUMMARY:WARSZAWA – kurs podstawowy\, zjazd 21
DESCRIPTION:[vc_row][vc_column]		\n			Zjazd 21 – Osiem Kanałów do Niezwykłych Regulacji\nJest to zjazd poświęcony Qi Jing Ba Mai – ośmiu kanałom stanowiącym najgłębszą warstwę organizacji ludzkiego organizmu. W jego trakcie poznamy starochińskie teorie dotyczące powstania świata\, w tym zasady interakcji pomiędzy Yin i Yang\, cztery dogramy i osiem trygramów a także ich relacje z Kanałami Cudownymi. \nNauczymy się też zasad diagnozy z pulsu i z wywiadu patologii tych Kanałów. \nNastępnie omówimy po kolei ich działanie\, najpierw grupę Kanałów pierwotnych: ChongMai\, DuMai\, RenMai i DaiMai\, a potem kanałów Ziemskich\, wtórnych: Yin i Yang Qiao i Wei Mai\, wraz z najczęstszymi ich patologiami\, przebiegami kanałów oraz działaniem wszystkich znajdujących się na nich punktów.  \n		\n		[/vc_column][/vc_row]
URL:https://www.acuart.pl/wydarzenie/warszawa-kurs-podstawowy-zjazd-21/
LOCATION:Warszawa\, Warszawa\, Mazowieckie\, Poland
ORGANIZER;CN="acuart":MAILTO:sekretariat@acuart.pl
END:VEVENT
END:VCALENDAR