BEGIN:VCALENDAR
VERSION:2.0
PRODID:-//acuart - ECPv6.15.20//NONSGML v1.0//EN
CALSCALE:GREGORIAN
METHOD:PUBLISH
X-WR-CALNAME:acuart
X-ORIGINAL-URL:https://www.acuart.pl
X-WR-CALDESC:Wydarzenia dla acuart
REFRESH-INTERVAL;VALUE=DURATION:PT1H
X-Robots-Tag:noindex
X-PUBLISHED-TTL:PT1H
BEGIN:VTIMEZONE
TZID:UTC
BEGIN:STANDARD
TZOFFSETFROM:+0000
TZOFFSETTO:+0000
TZNAME:UTC
DTSTART:20240101T000000
END:STANDARD
END:VTIMEZONE
BEGIN:VEVENT
DTSTART;VALUE=DATE:20250606
DTEND;VALUE=DATE:20250609
DTSTAMP:20260423T194038
CREATED:20250131T101558Z
LAST-MODIFIED:20250131T101558Z
UID:1522-1749168000-1749427199@www.acuart.pl
SUMMARY:KATOWICE - akupunktura konstytucyjna | czerwiec
DESCRIPTION:
URL:https://www.acuart.pl/wydarzenie/katowice-akupunktura-konstytucyjna-czerwiec/
LOCATION:Katowice\, Katowice\, Poland
ORGANIZER;CN="acuart":MAILTO:sekretariat@acuart.pl
END:VEVENT
BEGIN:VEVENT
DTSTART;VALUE=DATE:20250620
DTEND;VALUE=DATE:20250622
DTSTAMP:20260423T194038
CREATED:20240526T105743Z
LAST-MODIFIED:20250131T101847Z
UID:1301-1750377600-1750550399@www.acuart.pl
SUMMARY:WARSZAWA II – kurs podstawowy\, zjazd 8
DESCRIPTION:[vc_row][vc_column]			 					\n			Zjazd 8 – Przemiana Wody – fizjologia\, patologia\, kanały i punkty; Diagnoza z Pulsu – złożone jakości\nÓsmy zjazd to czas poświęcony fizjologii i patologii Przemiany Wody: \n– zapoznamy się z fizjologią Nerek i Pęcherza Moczowego\, widzianą z perspektywy zarówno 5 Przemian i Zegara Obiegu Energii\, \n– poznamy połączenia pomiędzy tymi narządami a innymi funkcjami ciała\, co znacznie usprawni rozumienie procesów patologicznych\, ale też planowanie terapii  \n– zaznajomimy się z dokładnymi przebiegami kanałów Nerek i Pęcherza Moczowego\, a także lokalizacją i działaniem punktów akupunkturowych\, które są na nich zlokalizowane  \n– w końcu przedyskutujemy najczęstsze patologie tych narządów  \nJest to kolejny zjazd\, w którym pogłębimy swoją znajomość diagnozy z pulsu\, zapoznając się ze sposobem badania i klinicznym znaczeniem kompleksowych jakości pulsu: siły\, napięcia ściany naczynia\, a także kształtu fali tętna  \n		\n		[/vc_column][/vc_row]
URL:https://www.acuart.pl/wydarzenie/wrszawa-kurs-podstawowy-zjazd-8/
LOCATION:Warszawa\, Warszawa\, Mazowieckie\, Poland
ORGANIZER;CN="acuart":MAILTO:sekretariat@acuart.pl
END:VEVENT
BEGIN:VEVENT
DTSTART;VALUE=DATE:20250621
DTEND;VALUE=DATE:20250623
DTSTAMP:20260423T194038
CREATED:20230608T105348Z
LAST-MODIFIED:20250131T101809Z
UID:948-1750464000-1750636799@www.acuart.pl
SUMMARY:KATOWICE – kurs podstawowy\, zjazd 15
DESCRIPTION:[vc_row][vc_column]		\n			Zjazd 15 – diagnostyka różnicowa cz.1 – Ból \nZjazd poświęcony bólowi otwiera temat diagnozy częstych objawów w obrębie Medycyny Chińskiej\, co jest rozwinięciem zjazdu poświęconego diagnozie z wywiadu. Ból jest jedną z najczęstszych dolegliwości z jakimi pacjenci zgłaszają się do gabinetów akupunkturzystów\, stanowi więc ważny temat\, a jednocześnie jest dobrym objawem do pokazania różnic między Medycyną Zachodnią i Chińską.  \nPodczas tego zjazdu zobaczymy w praktyce jak można doprecyzować diagnozę dzieląc zachodnie choroby na syndromy w Medycynie Chińskiej na podstawie prawidłowej diagnozy pulsu\, języka i odpowiednio zebranego wywiadu. Poznamy też różnicowanie i najczęstsze przyczyny dolegliwości bólowych głowy\, pleców\, brzucha i stawów\, a zrozumienie procesu patologicznego prowadzić nas będzie do precyzyjnego wyboru punktów akupunkturowych.  \n		\n		[/vc_column][/vc_row]
URL:https://www.acuart.pl/wydarzenie/katowice-kurs-podstawowy-zjazd-15/
LOCATION:Katowice\, Katowice\, Poland
ORGANIZER;CN="acuart":MAILTO:sekretariat@acuart.pl
END:VEVENT
BEGIN:VEVENT
DTSTART;VALUE=DATE:20250621
DTEND;VALUE=DATE:20250623
DTSTAMP:20260423T194038
CREATED:20250131T102104Z
LAST-MODIFIED:20250131T102104Z
UID:1525-1750464000-1750636799@www.acuart.pl
SUMMARY:WARSZAWA – kurs podstawowy\, zjazd 20
DESCRIPTION:[vc_row][vc_column]		\n			Zjazd 20 – Strategie tworzenia kombinacji punktów\, diagnostyka różnicowa cz. 3\nTen zjazd składa się z dwóch części: \n– jeden dzień poświęcony jest na omówienie strategii tworzenia częstych kombinacji punktów akupunkturowych i zasad łączenia punktów w kombinacje  \n– drugi dzień natomiast to kontynuacja nauki diagnostyki różnicowej – tym razem głównie chorób i objawów związanych z zaburzeniami metabolicznymi: cukrzycy i chorób tarczycy  \n		\n		[/vc_column][/vc_row]
URL:https://www.acuart.pl/wydarzenie/warszawa-kurs-podstawowy-zjazd-20/
LOCATION:Warszawa\, Warszawa\, Mazowieckie\, Poland
ORGANIZER;CN="acuart":MAILTO:sekretariat@acuart.pl
END:VEVENT
BEGIN:VEVENT
DTSTART;VALUE=DATE:20250627
DTEND;VALUE=DATE:20250629
DTSTAMP:20260423T194038
CREATED:20230608T110658Z
LAST-MODIFIED:20250205T093059Z
UID:952-1750982400-1751155199@www.acuart.pl
SUMMARY:POZNAŃ – kurs podstawowy\, zjazd 7
DESCRIPTION:[vc_row][vc_column]		\n			Zjazd 7 – Przemiana Metalu – fizjologia\, patologia\, kanały i punkty; Diagnoza z Pulsu – proste jakości\nPodczas siódmego zjazdu poznamy fizjologię i patologię Przemiany Metalu: \n– zapoznamy się z fizjologią Płuc i Jelita Grubego\, widzianą z perspektywy zarówno 5 Przemian i Zegara Obiegu Energii\, \n– poznamy połączenia pomiędzy tymi narządami a innymi funkcjami ciała\, co znacznie usprawni rozumienie procesów patologicznych\, ale też planowanie terapii  \n– zaznajomimy się z dokładnymi przebiegami kanałów Płuc i Jelita Grubego\, a także lokalizacją i działaniem punktów akupunkturowych  \n– w końcu przedyskutujemy najczęstsze patologie tych narządów  \nKolejny etap nauki badania pulsu\, to zapoznanie się ze sposobem badania a także klinicznym znaczeniem prostych\, fizycznych jakości pulsu\, takich jak jego: długość\, szerokość\, głębokość\, prędkość i rytm  \n		\n		[/vc_column][/vc_row]
URL:https://www.acuart.pl/wydarzenie/poznan-kurs-podstawowy-zjazd-7/
LOCATION:Poznań\, Poznań\, Poland
ORGANIZER;CN="acuart":MAILTO:sekretariat@acuart.pl
END:VEVENT
BEGIN:VEVENT
DTSTART;VALUE=DATE:20250628
DTEND;VALUE=DATE:20250630
DTSTAMP:20260423T194038
CREATED:20230608T112035Z
LAST-MODIFIED:20250205T093334Z
UID:965-1751068800-1751241599@www.acuart.pl
SUMMARY:POZNAŃ - kurs podstawowy\, zjazd 19
DESCRIPTION:[vc_row][vc_column]		\n			Zjazd 19 – ćwiczenia z pacjentami \nJest to kolejny zjazd praktyczny\, ponownie\, podobnie jak na zjeździe szesnastym\, będziemy przyjmować prawdziwych pacjentów diagnozując\, projektując strategie terapii i nakłuwając.  \nNastępnie wspólnie omówimy wszystkich pacjentów z danego dnia\, żebyśmy mogli skorzystać na analizie każdego z przypadków.   \n		\n		[/vc_column][/vc_row]
URL:https://www.acuart.pl/wydarzenie/poznan-kurs-podstawowy-zjazd-19/
LOCATION:Poznań\, Poznań\, Poland
ORGANIZER;CN="acuart":MAILTO:sekretariat@acuart.pl
END:VEVENT
END:VCALENDAR