BEGIN:VCALENDAR
VERSION:2.0
PRODID:-//acuart - ECPv6.15.20//NONSGML v1.0//EN
CALSCALE:GREGORIAN
METHOD:PUBLISH
X-ORIGINAL-URL:https://www.acuart.pl
X-WR-CALDESC:Wydarzenia dla acuart
REFRESH-INTERVAL;VALUE=DURATION:PT1H
X-Robots-Tag:noindex
X-PUBLISHED-TTL:PT1H
BEGIN:VTIMEZONE
TZID:UTC
BEGIN:STANDARD
TZOFFSETFROM:+0000
TZOFFSETTO:+0000
TZNAME:UTC
DTSTART:20250101T000000
END:STANDARD
END:VTIMEZONE
BEGIN:VEVENT
DTSTART;VALUE=DATE:20260214
DTEND;VALUE=DATE:20260216
DTSTAMP:20260421T094407
CREATED:20231102T120302Z
LAST-MODIFIED:20250729T083031Z
UID:1156-1771027200-1771199999@www.acuart.pl
SUMMARY:KATOWICE – kurs podstawowy\, zjazd 23
DESCRIPTION:[vc_row][vc_column]			 					\n			Zjazd 23 – Powtórzenie \nTo są zajęcia\, które z założenia mają przygotować Studentów do czekającego ich wkrótce egzaminu i usystematyzować ich wiedzę z podstaw Medycyny Chińskiej. Są oparte na schemacie przedstawiającym systemy uporządkowania rzeczywistości w bardzo luźnym podziale: wewnętrzny / zewnętrzny. Taka konstrukcja zajęć pozwala na powtórzenie działania większości często używanych punktów akupunkturowych. \nPlan zajęć: \n\nrozwój choroby \nczłowiek pomiędzy Niebem a Ziemią\nteorie stosowane (głównie) w syndromach wewnętrznych\n\nNiebo – 5 Przemian (punkty 5 Przemian) \nZiemia – zegar obiegu (punkty wejścia\, wyjścia\, punkty ziemskich konarów)\nNarządy – SanJiao – metabolizm (odniesienie do 2 zjazdu\, w oparciu o wykłady Raniego)\nNarządy – SanJiao – substancje ciała (przypomnienie punktów wspomagających produkcję/odżywiających Qi\, Krew\, Yang\, Yin\, wpływających na korzeń/Esencję)\nNarządy – emocje (przypomnienie różnych podejść do leczenia zaburzeń emocjonalnych\, głównie 5 Przemian) \n\n\nteorie stosowane (głównie) w syndromach zewnętrznych\n\n6 warstw (fizjologia) – 6 kanałów\n6 czynników patogennych \n6 warstw (patologia)\nShang Han Lun \nWen Bing  \n\n\n\n		\n		[/vc_column][/vc_row]
URL:https://www.acuart.pl/wydarzenie/katowice-kurs-podstawowy-zjazd-23/
LOCATION:Katowice\, Katowice\, Poland
ORGANIZER;CN="acuart":MAILTO:sekretariat@acuart.pl
END:VEVENT
END:VCALENDAR