BEGIN:VCALENDAR
VERSION:2.0
PRODID:-//acuart - ECPv6.15.20//NONSGML v1.0//EN
CALSCALE:GREGORIAN
METHOD:PUBLISH
X-ORIGINAL-URL:https://www.acuart.pl
X-WR-CALDESC:Wydarzenia dla acuart
REFRESH-INTERVAL;VALUE=DURATION:PT1H
X-Robots-Tag:noindex
X-PUBLISHED-TTL:PT1H
BEGIN:VTIMEZONE
TZID:UTC
BEGIN:STANDARD
TZOFFSETFROM:+0000
TZOFFSETTO:+0000
TZNAME:UTC
DTSTART:20250101T000000
END:STANDARD
END:VTIMEZONE
BEGIN:VEVENT
DTSTART;VALUE=DATE:20260123
DTEND;VALUE=DATE:20260125
DTSTAMP:20260419T234121
CREATED:20250729T082148Z
LAST-MODIFIED:20250729T082148Z
UID:1645-1769126400-1769299199@www.acuart.pl
SUMMARY:WARSZAWA II – kurs podstawowy\, zjazd 15
DESCRIPTION:[vc_row][vc_column]			 					\n			Zjazd 15 – diagnostyka różnicowa cz.1 – Ból \nZjazd poświęcony bólowi otwiera temat diagnozy częstych objawów w obrębie Medycyny Chińskiej\, co jest rozwinięciem zjazdu poświęconego diagnozie z wywiadu. Ból jest jedną z najczęstszych dolegliwości z jakimi pacjenci zgłaszają się do gabinetów akupunkturzystów\, stanowi więc ważny temat\, a jednocześnie jest dobrym objawem do pokazania różnic między Medycyną Zachodnią i Chińską.  \nPodczas tego zjazdu zobaczymy w praktyce jak można doprecyzować diagnozę dzieląc zachodnie choroby na syndromy w Medycynie Chińskiej na podstawie prawidłowej diagnozy pulsu\, języka i odpowiednio zebranego wywiadu. Poznamy też różnicowanie i najczęstsze przyczyny dolegliwości bólowych głowy\, pleców\, brzucha i stawów\, a zrozumienie procesu patologicznego prowadzić nas będzie do precyzyjnego wyboru punktów akupunkturowych.  \n		\n		[/vc_column][/vc_row]
URL:https://www.acuart.pl/wydarzenie/warszawa-ii-kurs-podstawowy-zjazd-15/
LOCATION:Warszawa\, Warszawa\, Mazowieckie\, Poland
ORGANIZER;CN="acuart":MAILTO:sekretariat@acuart.pl
END:VEVENT
BEGIN:VEVENT
DTSTART;VALUE=DATE:20260124
DTEND;VALUE=DATE:20260126
DTSTAMP:20260419T234121
CREATED:20231102T114309Z
LAST-MODIFIED:20250730T121011Z
UID:1146-1769212800-1769385599@www.acuart.pl
SUMMARY:KATOWICE – kurs podstawowy\, zjazd 22
DESCRIPTION:[vc_row][vc_column]		\n			Zjazd 22 – Zdrowie kobiety w Medycynie Chińskiej \nZjazd 22 jest w całości poświęcony kobietom\, ich zdrowiu\, fizjologii i najczęstszym patologiom. Z właściwą sobie pasją\, wrażliwością\, głębokim zrozumieniem i ogromną wiedzą płynącą z praktyki klinicznej zjazd poprowadzi Izabela Miętka z Warszawy – jedna z najlepszych w Polsce akupunkturzystek skupionych na pracy z kobietami.  \nZ jej wykładu dowiemy się o energetycznej anatomii kobiet\, ich cyklu miesięcznym\, substancjach ciała\, płodności i emocjach. Poznamy też patologie miesiączkowania\, sposoby diagnozowania i wspomagania leczenia niepłodności\, zasady prowadzenia pacjentek w ciąży i podczas porodu.   \n		\n		[/vc_column][/vc_row]
URL:https://www.acuart.pl/wydarzenie/katowice-kurs-podstawowy-zjazd-22/
LOCATION:Katowice\, Katowice\, Poland
ORGANIZER;CN="acuart":MAILTO:sekretariat@acuart.pl
END:VEVENT
BEGIN:VEVENT
DTSTART;VALUE=DATE:20260124
DTEND;VALUE=DATE:20260126
DTSTAMP:20260419T234121
CREATED:20250729T082400Z
LAST-MODIFIED:20250729T082400Z
UID:1648-1769212800-1769385599@www.acuart.pl
SUMMARY:WARSZAWA III – kurs podstawowy\, zjazd 3
DESCRIPTION:[vc_row][vc_column]		\n			Zjazd 3 – kanały i punkty\nKolejny\, trzeci zjazd jest przełomowy – Studenci poznają w jego trakcie informacje dotyczące punktów akupunkturowych\, a także trójwymiarowej struktury połączeń pomiędzy różnymi rodzajami kanałów akupunkturowych i zasady ich używania.  \nCelem zjazdu jest:  \n\nprzekazanie Studentom wiedzy dotyczącej tego czym są punkty akupunkturowe i jak je znajdować na ciele\nuporządkowanie informacji dotyczących różnych rodzajów i grup punktów akupunkturowych i uświadomienie przełożenia tej wiedzy na praktykę kliniczną \nzaprezentowanie różnych rodzajów kanałów akupunkturowych i zasad ich używania\nuświadomienie połączeń pomiędzy kanałami tworzącymi w rezultacie obejmującą całe ciało\, trójwymiarową sieć \n\n		\n		[/vc_column][/vc_row]
URL:https://www.acuart.pl/wydarzenie/warszawa-iii-kurs-podstawowy-zjazd-3/
LOCATION:Warszawa\, Warszawa\, Mazowieckie\, Poland
ORGANIZER;CN="acuart":MAILTO:sekretariat@acuart.pl
END:VEVENT
END:VCALENDAR