BEGIN:VCALENDAR
VERSION:2.0
PRODID:-//acuart - ECPv6.15.20//NONSGML v1.0//EN
CALSCALE:GREGORIAN
METHOD:PUBLISH
X-WR-CALNAME:acuart
X-ORIGINAL-URL:https://www.acuart.pl
X-WR-CALDESC:Wydarzenia dla acuart
REFRESH-INTERVAL;VALUE=DURATION:PT1H
X-Robots-Tag:noindex
X-PUBLISHED-TTL:PT1H
BEGIN:VTIMEZONE
TZID:UTC
BEGIN:STANDARD
TZOFFSETFROM:+0000
TZOFFSETTO:+0000
TZNAME:UTC
DTSTART:20250101T000000
END:STANDARD
END:VTIMEZONE
BEGIN:VEVENT
DTSTART;VALUE=DATE:20260110
DTEND;VALUE=DATE:20260112
DTSTAMP:20260422T215113
CREATED:20231102T112745Z
LAST-MODIFIED:20250729T081810Z
UID:1142-1768003200-1768175999@www.acuart.pl
SUMMARY:POZNAŃ – kurs podstawowy\, zjazd 1
DESCRIPTION:[vc_row][vc_column]			 					\n			Zjazd 1 – Wstęp; 5 przemian\nPierwszy zjazd Kursu rozpoczyna pełną przygód podróż Studentów przez świat Medycyny Chińskiej i jak każdy początek poświęcony jest przede wszystkim zbudowaniu logicznej struktury\, mapy\, której używać będziemy w całej podróży. Oczywiście wprowadzamy już też podstawowe pojęcia\, uczymy znaczenia słów\, których będziemy używać przez kolejne dwa lata. Na koniec zaś odpowiadamy na pytanie – jak być zdrowym?  \nCelem pierwszego zjazdu jest:  \n\nzawiązanie grupy \nprzedstawienie Medycyny Chińskiej jako spójnego i logicznego systemu medycznego\, pierwsze przedstawienie różnych systemów organizacji rzeczywistości (a także kiedy jakich używać)\nwprowadzenie podstawowych pojęć: Qi\, Yin/Yang\, 5 Przemian\nprzedstawienie aktualnego stanu wiedzy płynącej z badań klinicznych – legitymizacja akupunktury jako metody naukowej\, ale też umożliwienie rozmowy na tym poziomie    \n\n		\n		[/vc_column][/vc_row]
URL:https://www.acuart.pl/wydarzenie/poznan-kurs-podstawowy-zjazd-1/
LOCATION:Poznań\, Poznań\, Poland
ORGANIZER;CN="acuart":MAILTO:sekretariat@acuart.pl
END:VEVENT
END:VCALENDAR