BEGIN:VCALENDAR
VERSION:2.0
PRODID:-//acuart - ECPv6.15.20//NONSGML v1.0//EN
CALSCALE:GREGORIAN
METHOD:PUBLISH
X-ORIGINAL-URL:https://www.acuart.pl
X-WR-CALDESC:Wydarzenia dla acuart
REFRESH-INTERVAL;VALUE=DURATION:PT1H
X-Robots-Tag:noindex
X-PUBLISHED-TTL:PT1H
BEGIN:VTIMEZONE
TZID:UTC
BEGIN:STANDARD
TZOFFSETFROM:+0000
TZOFFSETTO:+0000
TZNAME:UTC
DTSTART:20240101T000000
END:STANDARD
END:VTIMEZONE
BEGIN:VEVENT
DTSTART;VALUE=DATE:20251122
DTEND;VALUE=DATE:20251124
DTSTAMP:20260423T135659
CREATED:20230620T114345Z
LAST-MODIFIED:20250513T073028Z
UID:1011-1763769600-1763942399@www.acuart.pl
SUMMARY:KATOWICE – kurs podstawowy\, zjazd 20
DESCRIPTION:[vc_row][vc_column]			 					\n			Zjazd 20 – Strategie tworzenia kombinacji punktów\, diagnostyka różnicowa cz. 3\nTen zjazd składa się z dwóch części: \n– jeden dzień poświęcony jest na omówienie strategii tworzenia częstych kombinacji punktów akupunkturowych i zasad łączenia punktów w kombinacje  \n– drugi dzień natomiast to kontynuacja nauki diagnostyki różnicowej – tym razem głównie chorób i objawów związanych z zaburzeniami metabolicznymi: cukrzycy i chorób tarczycy  \n		\n		[/vc_column][/vc_row]
URL:https://www.acuart.pl/wydarzenie/katowice-kurs-podstawowy-zjazd-20/
LOCATION:Katowice\, Katowice\, Poland
ORGANIZER;CN="acuart":MAILTO:sekretariat@acuart.pl
END:VEVENT
END:VCALENDAR