BEGIN:VCALENDAR
VERSION:2.0
PRODID:-//acuart - ECPv6.15.20//NONSGML v1.0//EN
CALSCALE:GREGORIAN
METHOD:PUBLISH
X-WR-CALNAME:acuart
X-ORIGINAL-URL:https://www.acuart.pl
X-WR-CALDESC:Wydarzenia dla acuart
REFRESH-INTERVAL;VALUE=DURATION:PT1H
X-Robots-Tag:noindex
X-PUBLISHED-TTL:PT1H
BEGIN:VTIMEZONE
TZID:UTC
BEGIN:STANDARD
TZOFFSETFROM:+0000
TZOFFSETTO:+0000
TZNAME:UTC
DTSTART:20240101T000000
END:STANDARD
END:VTIMEZONE
BEGIN:VEVENT
DTSTART;VALUE=DATE:20251024
DTEND;VALUE=DATE:20251026
DTSTAMP:20260423T152643
CREATED:20240527T050336Z
LAST-MODIFIED:20250513T072429Z
UID:1326-1761264000-1761436799@www.acuart.pl
SUMMARY:WARSZAWA II – kurs podstawowy\, zjazd 12
DESCRIPTION:[vc_row][vc_column]			 					\n			Zjazd 12 – diagnoza z wywiadu\nZjazd 12 jest poświęcony sposobom zbierania wywiadu i rozmowy z pacjentem. W jego trakcie dowiemy się jak rozpoznawać różne typy pacjentów na podstawie ich sposobu ekspresji\, co pozwala na zrozumienie podstawowych wyzwań pacjentów i ich sposobów radzenia sobie z tymi wyzwaniami\, a także nauczymy się jak ustalać zasady współpracy i wspólne cele terapii. \nNiebagatelną częścią tego zjazdu jest omówienie tzw Pieśni 10 Pytań stanowiącej w Medycynie Chińskiej podstawę ustrukturyzowanego wywiadu. Rozmowa o poszczególnych objawach i procesach prowadzących do ich powstania pozwoli nam lepiej zrozumieć historie naszych pacjentów.   \n		\n		[/vc_column][/vc_row]
URL:https://www.acuart.pl/wydarzenie/warszawa-kurs-podstawowy-zjazd-12/
LOCATION:Warszawa\, Warszawa\, Mazowieckie\, Poland
ORGANIZER;CN="acuart":MAILTO:sekretariat@acuart.pl
END:VEVENT
BEGIN:VEVENT
DTSTART;VALUE=DATE:20251024
DTEND;VALUE=DATE:20251027
DTSTAMP:20260423T152643
CREATED:20250513T072757Z
LAST-MODIFIED:20250513T072757Z
UID:1602-1761264000-1761523199@www.acuart.pl
SUMMARY:WARSZAWA – kurs podstawowy\, zjazd 24
DESCRIPTION:[vc_row][vc_column]		\n			Zjazd 24 – egzamin\nOstatni zjazd kursu to egzamin\, który składa się z dwóch części: \n– egzaminu praktycznego\, podczas którego Studenci będą musieli zdiagnozować realnego pacjenta\, samodzielnie ustalić cele i strategie terapii\, a także zlokalizować na ciele pacjenta punkty i przeprowadzić skuteczny zabieg. Skuteczność zabiegu będziemy oceniać na podstawie zmian w pulsie   \n– egzaminu testowego – testu jednokrotnego wybory składającego się z pytań obejmujących materiał z całego kursu  \n		\n		[/vc_column][/vc_row]
URL:https://www.acuart.pl/wydarzenie/warszawa-kurs-podstawowy-zjazd-24/
LOCATION:Warszawa\, Warszawa\, Mazowieckie\, Poland
ORGANIZER;CN="acuart":MAILTO:sekretariat@acuart.pl
END:VEVENT
END:VCALENDAR