BEGIN:VCALENDAR
VERSION:2.0
PRODID:-//acuart - ECPv6.15.20//NONSGML v1.0//EN
CALSCALE:GREGORIAN
METHOD:PUBLISH
X-WR-CALNAME:acuart
X-ORIGINAL-URL:https://www.acuart.pl
X-WR-CALDESC:Wydarzenia dla acuart
REFRESH-INTERVAL;VALUE=DURATION:PT1H
X-Robots-Tag:noindex
X-PUBLISHED-TTL:PT1H
BEGIN:VTIMEZONE
TZID:UTC
BEGIN:STANDARD
TZOFFSETFROM:+0000
TZOFFSETTO:+0000
TZNAME:UTC
DTSTART:20240101T000000
END:STANDARD
END:VTIMEZONE
BEGIN:VEVENT
DTSTART;VALUE=DATE:20251017
DTEND;VALUE=DATE:20251019
DTSTAMP:20260423T152538
CREATED:20230620T112221Z
LAST-MODIFIED:20250513T072304Z
UID:995-1760659200-1760831999@www.acuart.pl
SUMMARY:POZNAŃ – kurs podstawowy\, zjazd 10
DESCRIPTION:[vc_row][vc_column]			 					\n			Zjazd 10 – Przemiana Ognia c.d. – fizjologia\, patologia\, kanały i punkty; Diagnoza z Języka \nDziesiąty zjazd domyka półroczny blok poznawania fizjologii i patologii narządowej: tym razem kontynuujemy poznawanie Przemiany Ognia koncentrując się na tzw. Ogniu Ziemskim\, albo Ministerialnym \n– zapoznamy się z fizjologią Osierdzia i San Jiao\, widzianą z perspektywy zarówno 5 Przemian i Zegara Obiegu Energii\, \n– poznamy połączenia pomiędzy tymi narządami a innymi funkcjami ciała\, co znacznie usprawni rozumienie procesów patologicznych\, ale też planowanie terapii  \n– zaznajomimy się z dokładnymi przebiegami kanałów Osierdzia i San Jiao\, a także lokalizacją i działaniem zlokalizowanych na nich punktów akupunkturowych  \n– w końcu przedyskutujemy najczęstsze patologie tych narządów  \nJest to też zjazd\, w którym nauczymy się diagnozy z języka: poznamy podstawy badania języka\, odzwierciedlenie narządów na język\, nauczymy się rozpoznawać kolory\, kształty i formy ciała języka i nalotu i oczywiście będziemy ćwiczyć rozpoznawanie patologii na językach.  \n		\n		[/vc_column][/vc_row]
URL:https://www.acuart.pl/wydarzenie/poznan-kurs-podstawowy-zjazd-10/
LOCATION:Poznań\, Poznań\, Poland
ORGANIZER;CN="acuart":MAILTO:sekretariat@acuart.pl
END:VEVENT
BEGIN:VEVENT
DTSTART;VALUE=DATE:20251017
DTEND;VALUE=DATE:20251020
DTSTAMP:20260423T152538
CREATED:20230620T112045Z
LAST-MODIFIED:20250513T072213Z
UID:993-1760659200-1760918399@www.acuart.pl
SUMMARY:KATOWICE – kurs podstawowy\, zjazd 19
DESCRIPTION:[vc_row][vc_column]		\n			Zjazd 19 – ćwiczenia z pacjentami \nJest to kolejny zjazd praktyczny\, ponownie\, podobnie jak na zjeździe szesnastym\, będziemy przyjmować prawdziwych pacjentów diagnozując\, projektując strategie terapii i nakłuwając.  \nNastępnie wspólnie omówimy wszystkich pacjentów z danego dnia\, żebyśmy mogli skorzystać na analizie każdego z przypadków.   \n		\n		[/vc_column][/vc_row]
URL:https://www.acuart.pl/wydarzenie/katowice-kurs-podstawowy-zjazd-19/
LOCATION:Katowice\, Katowice\, Poland
ORGANIZER;CN="acuart":MAILTO:sekretariat@acuart.pl
END:VEVENT
END:VCALENDAR