BEGIN:VCALENDAR
VERSION:2.0
PRODID:-//acuart - ECPv6.15.20//NONSGML v1.0//EN
CALSCALE:GREGORIAN
METHOD:PUBLISH
X-ORIGINAL-URL:https://www.acuart.pl
X-WR-CALDESC:Wydarzenia dla acuart
REFRESH-INTERVAL;VALUE=DURATION:PT1H
X-Robots-Tag:noindex
X-PUBLISHED-TTL:PT1H
BEGIN:VTIMEZONE
TZID:UTC
BEGIN:STANDARD
TZOFFSETFROM:+0000
TZOFFSETTO:+0000
TZNAME:UTC
DTSTART:20240101T000000
END:STANDARD
END:VTIMEZONE
BEGIN:VEVENT
DTSTART;VALUE=DATE:20250926
DTEND;VALUE=DATE:20250928
DTSTAMP:20260423T165900
CREATED:20240527T045846Z
LAST-MODIFIED:20250513T071751Z
UID:1322-1758844800-1759017599@www.acuart.pl
SUMMARY:WARSZAWA II – kurs podstawowy\, zjazd 11
DESCRIPTION:[vc_row][vc_column]			 					\n			Zjazd 11 – diagnoza z twarzy \nNa poprzednich zjazdach uczyliśmy się diagnozować na podstawie pulsu i języka\, teraz przyszedł czas na diagnozę z wyglądu – będziemy się uczyć rozpoznawać różne typy budowy ciała\, a także omówimy co można wyczytać z twarzy człowieka.   \nJest to bardzo dynamiczny i praktyczny zjazd \n		\n		[/vc_column][/vc_row]
URL:https://www.acuart.pl/wydarzenie/warszawa-kurs-podstawowy-zjazd-11/
LOCATION:Warszawa\, Warszawa\, Mazowieckie\, Poland
ORGANIZER;CN="acuart":MAILTO:sekretariat@acuart.pl
END:VEVENT
BEGIN:VEVENT
DTSTART;VALUE=DATE:20250927
DTEND;VALUE=DATE:20250929
DTSTAMP:20260423T165900
CREATED:20230608T121335Z
LAST-MODIFIED:20250513T071701Z
UID:991-1758931200-1759103999@www.acuart.pl
SUMMARY:KATOWICE – kurs podstawowy\, zjazd 18
DESCRIPTION:[vc_row][vc_column]		\n			Zjazd 18 – Dietetyka\nTen dwudniowy zjazd w całość dedykowany jest poznaniu zasad dietetyki chińskiej w sposób umożliwiający udzielanie prostych\, spersonalizowanych porad dietetycznych naszym pacjentom.  \n		\n		[/vc_column][/vc_row]
URL:https://www.acuart.pl/wydarzenie/katowice-kurs-podstawowy-zjazd-18/
LOCATION:Katowice\, Katowice\, Poland
ORGANIZER;CN="acuart":MAILTO:sekretariat@acuart.pl
END:VEVENT
BEGIN:VEVENT
DTSTART;VALUE=DATE:20250927
DTEND;VALUE=DATE:20250929
DTSTAMP:20260423T165900
CREATED:20250513T072003Z
LAST-MODIFIED:20250513T072003Z
UID:1598-1758931200-1759103999@www.acuart.pl
SUMMARY:WARSZAWA – kurs podstawowy\, zjazd 23
DESCRIPTION:[vc_row][vc_column]		\n			Zjazd 23 – Powtórzenie \nTo są zajęcia\, które z założenia mają przygotować Studentów do czekającego ich wkrótce egzaminu i usystematyzować ich wiedzę z podstaw Medycyny Chińskiej. Są oparte na schemacie przedstawiającym systemy uporządkowania rzeczywistości w bardzo luźnym podziale: wewnętrzny / zewnętrzny. Taka konstrukcja zajęć pozwala na powtórzenie działania większości często używanych punktów akupunkturowych. \nPlan zajęć: \n\nrozwój choroby \nczłowiek pomiędzy Niebem a Ziemią\nteorie stosowane (głównie) w syndromach wewnętrznych\n\nNiebo – 5 Przemian (punkty 5 Przemian) \nZiemia – zegar obiegu (punkty wejścia\, wyjścia\, punkty ziemskich konarów)\nNarządy – SanJiao – metabolizm (odniesienie do 2 zjazdu\, w oparciu o wykłady Raniego)\nNarządy – SanJiao – substancje ciała (przypomnienie punktów wspomagających produkcję/odżywiających Qi\, Krew\, Yang\, Yin\, wpływających na korzeń/Esencję)\nNarządy – emocje (przypomnienie różnych podejść do leczenia zaburzeń emocjonalnych\, głównie 5 Przemian) \n\n\nteorie stosowane (głównie) w syndromach zewnętrznych\n\n6 warstw (fizjologia) – 6 kanałów\n6 czynników patogennych \n6 warstw (patologia)\nShang Han Lun \nWen Bing  \n\n\n\n		\n		[/vc_column][/vc_row]
URL:https://www.acuart.pl/wydarzenie/warszawa-kurs-podstawowy-zjazd-23/
LOCATION:Warszawa\, Warszawa\, Mazowieckie\, Poland
ORGANIZER;CN="acuart":MAILTO:sekretariat@acuart.pl
END:VEVENT
END:VCALENDAR